BEGIN:VCALENDAR
VERSION:2.0
PRODID:-//Somatic Cell Gene Editing - ECPv6.15.20//NONSGML v1.0//EN
CALSCALE:GREGORIAN
METHOD:PUBLISH
X-WR-CALNAME:Somatic Cell Gene Editing
X-ORIGINAL-URL:https://scge.mcw.edu
X-WR-CALDESC:Events for Somatic Cell Gene Editing
REFRESH-INTERVAL;VALUE=DURATION:PT1H
X-Robots-Tag:noindex
X-PUBLISHED-TTL:PT1H
BEGIN:VTIMEZONE
TZID:America/Chicago
BEGIN:DAYLIGHT
TZOFFSETFROM:-0600
TZOFFSETTO:-0500
TZNAME:CDT
DTSTART:20180311T080000
END:DAYLIGHT
BEGIN:STANDARD
TZOFFSETFROM:-0500
TZOFFSETTO:-0600
TZNAME:CST
DTSTART:20181104T070000
END:STANDARD
BEGIN:DAYLIGHT
TZOFFSETFROM:-0600
TZOFFSETTO:-0500
TZNAME:CDT
DTSTART:20190310T080000
END:DAYLIGHT
BEGIN:STANDARD
TZOFFSETFROM:-0500
TZOFFSETTO:-0600
TZNAME:CST
DTSTART:20191103T070000
END:STANDARD
BEGIN:DAYLIGHT
TZOFFSETFROM:-0600
TZOFFSETTO:-0500
TZNAME:CDT
DTSTART:20200308T080000
END:DAYLIGHT
BEGIN:STANDARD
TZOFFSETFROM:-0500
TZOFFSETTO:-0600
TZNAME:CST
DTSTART:20201101T070000
END:STANDARD
END:VTIMEZONE
BEGIN:VEVENT
DTSTART;VALUE=DATE:20190912
DTEND;VALUE=DATE:20190915
DTSTAMP:20260425T102329
CREATED:20190621T170531Z
LAST-MODIFIED:20200331T164631Z
UID:1000-1568246400-1568505599@scge.mcw.edu
SUMMARY:3rd Epigenetics and Bioengineering Conference (EpiBio 2019)
DESCRIPTION:Fueled by the rapid advancements in both epigenetic research as well as translational gene editing and gene therapy\, the EpiBio conferences were established in 2017 as a platform for synthetic biologists developing tools for epigenetic reprogramming. Organized by the Society for Biological Engineering (SBE)\, EpiBio 2019 brings together academic\, clinical\, and industrial researchers from several disciplines to share their recent discoveries and developments. The overarching goal of the conference is to shape the future of this emerging field. \nSCGE Organizers:  Hennriette O’Green\, PhD\, David Segal\, PhD \nSCGE Speakers: \n\nCharles Gersbach\, PhD\nDavid Segal\, PhD\n\n 
URL:https://scge.mcw.edu/events/3rd-epigenetics-and-bioengineering-conference-epibio-2019/
ATTACH;FMTTYPE=image/jpeg:https://scge.mcw.edu/wp-content/uploads/2019/06/EpiBio2019.jpg
END:VEVENT
END:VCALENDAR