BEGIN:VCALENDAR
VERSION:2.0
PRODID:-//Somatic Cell Gene Editing - ECPv6.15.20//NONSGML v1.0//EN
CALSCALE:GREGORIAN
METHOD:PUBLISH
X-ORIGINAL-URL:https://scge.mcw.edu
X-WR-CALDESC:Events for Somatic Cell Gene Editing
REFRESH-INTERVAL;VALUE=DURATION:PT1H
X-Robots-Tag:noindex
X-PUBLISHED-TTL:PT1H
BEGIN:VTIMEZONE
TZID:America/Chicago
BEGIN:DAYLIGHT
TZOFFSETFROM:-0600
TZOFFSETTO:-0500
TZNAME:CDT
DTSTART:20200308T080000
END:DAYLIGHT
BEGIN:STANDARD
TZOFFSETFROM:-0500
TZOFFSETTO:-0600
TZNAME:CST
DTSTART:20201101T070000
END:STANDARD
BEGIN:DAYLIGHT
TZOFFSETFROM:-0600
TZOFFSETTO:-0500
TZNAME:CDT
DTSTART:20210314T080000
END:DAYLIGHT
BEGIN:STANDARD
TZOFFSETFROM:-0500
TZOFFSETTO:-0600
TZNAME:CST
DTSTART:20211107T070000
END:STANDARD
BEGIN:DAYLIGHT
TZOFFSETFROM:-0600
TZOFFSETTO:-0500
TZNAME:CDT
DTSTART:20220313T080000
END:DAYLIGHT
BEGIN:STANDARD
TZOFFSETFROM:-0500
TZOFFSETTO:-0600
TZNAME:CST
DTSTART:20221106T070000
END:STANDARD
END:VTIMEZONE
BEGIN:VEVENT
DTSTART;VALUE=DATE:20210601
DTEND;VALUE=DATE:20210611
DTSTAMP:20260425T200422
CREATED:20210216T231152Z
LAST-MODIFIED:20210216T231152Z
UID:1969-1622505600-1623369599@scge.mcw.edu
SUMMARY:CRISPR 2020
DESCRIPTION:The Paris CRISPR 2020 meeting has been cancelled.\nThe CRISPR 2021 meeting will be organized virtually\nfrom June 1 to 10\, 2021. \nMark your calendar!
URL:https://scge.mcw.edu/events/crispr-2020/
LOCATION:VIRTUAL
ATTACH;FMTTYPE=image/png:https://scge.mcw.edu/wp-content/uploads/2021/02/pasteur.org_.png
END:VEVENT
BEGIN:VEVENT
DTSTART;VALUE=DATE:20210605
DTEND;VALUE=DATE:20210610
DTSTAMP:20260425T200422
CREATED:20200904T182440Z
LAST-MODIFIED:20210216T232600Z
UID:1749-1622851200-1623283199@scge.mcw.edu
SUMMARY:Neurodegenerative Diseases: Genes\, Mechanisms and Therapeutics
DESCRIPTION:This conference aims to provide an integrated discussion of the latest advances in research and therapeutic development for neurodegenerative diseases. Our goals are to focus on the roles of genetic risk factors and their contributions to glial and neuronal health in the aging brain\, the biophysical properties of protein misfolding and the propagation of disease-specific proteinopathy\, the role of intracellular vesicular trafficking in disease pathogenesis\, new insights into the diverse role of glia\, innate immunity and microbiomes in neurodegeneration\, and novel therapeutic approaches that specifically target each of the novel biological areas. We anticipate that this conference will stimulate more discussions and promote new collaborations among scientists in the academia and industry that ultimately lead to new therapeutic targets to combat neurodegenerative diseases.
URL:https://scge.mcw.edu/events/neurodegenerative-diseases-genes-mechanisms-and-therapeutics/
LOCATION:VIRTUAL
ATTACH;FMTTYPE=image/jpeg:https://scge.mcw.edu/wp-content/uploads/2020/09/keystonesymposia-1.jpg
END:VEVENT
BEGIN:VEVENT
DTSTART;VALUE=DATE:20210606
DTEND;VALUE=DATE:20210610
DTSTAMP:20260425T200422
CREATED:20200904T183228Z
LAST-MODIFIED:20200915T200015Z
UID:1752-1622937600-1623283199@scge.mcw.edu
SUMMARY:Large Animals Genetic Engineering Summit
DESCRIPTION:Remarkable developments in genome editing are revolutionizing medicine and agriculture as large animal genomes can\, for the first time\, be modified with sophistication and efficiency so far only achievable in the mouse. This technology allows for improvement in livestock production traits\, agricultural animal health and welfare\, and generation of more refined large animal models for biomedical applications. The summit will bring together reproductive biologists\, geneticists\, molecular biologists\, animal model developers\, preclinical and clinical researchers\, and representatives of federal research and regulatory agencies.
URL:https://scge.mcw.edu/events/lages/
LOCATION:The Chateaux Deer Valley\, 7815 Royal St East\, Park City\, UT\, 84060\, United States
ATTACH;FMTTYPE=image/jpeg:https://scge.mcw.edu/wp-content/uploads/2020/09/LAGN.jpg
END:VEVENT
BEGIN:VEVENT
DTSTART;VALUE=DATE:20210606
DTEND;VALUE=DATE:20210612
DTSTAMP:20260425T200422
CREATED:20200904T183953Z
LAST-MODIFIED:20200904T183953Z
UID:1756-1622937600-1623455999@scge.mcw.edu
SUMMARY:Biotherapeutics and Vaccines Development Gordon Research Conference Patient-Centric\, Modality-Independent\, Data-Driven Biotherapeutic and Vaccine Developmen
DESCRIPTION:Biotherapeutics\, including protein and nucleic acid-based therapeutics\, cell and gene therapies\, and vaccines\, play an important role in maintaining and improving global public health which is particularly critical in the face of public health crises such as the COVID-19 pandemic. They are also being developed to treat a wide variety of serious medical conditions including infectious diseases\, cancer\, auto-immune\, cardio-vascular\, gastro-intestinal and neurological disorders. The development of biotherapeutics and vaccines\, from candidate engineering and selection\, through expression\, purification\, formulation\, analytical characterization and finally delivery to patients\, is a highly inter-disciplinary scientific field.
URL:https://scge.mcw.edu/events/biotherapeutics-and-vaccines-development-gordon-research-conference-patient-centric-modality-independent-data-driven-biotherapeutic-and-vaccine-developmen/
LOCATION:Tremont House\, 200 Ship's Mechanic Row\, Galveston\, TX\, 77550\, United States
ATTACH;FMTTYPE=image/jpeg:https://scge.mcw.edu/wp-content/uploads/2020/09/GRC.jpg
END:VEVENT
BEGIN:VEVENT
DTSTART;VALUE=DATE:20210609
DTEND;VALUE=DATE:20210611
DTSTAMP:20260425T200422
CREATED:20200904T192315Z
LAST-MODIFIED:20210216T233407Z
UID:1759-1623196800-1623369599@scge.mcw.edu
SUMMARY:The 5th International Conference on Retinoids
DESCRIPTION:This is the only international conference that focuses on Vitamin A. In a spirit of cross-disciplinary education\, this meeting provides a “home base” for diverse scientists to review the latest concepts and information about retinoid biology and to assess new developments. \nThis virtual conference brings together researchers who study retinoids to address the broad spectrum of retinoid actions and application in a comprehensive and integrative manner. This SRC benefits new investigators through mentoring opportunities and career development sessions and provides an excellent venue for established investigators less familiar with the field\, allowing them to gain a better perspective on the increasingly complex biology of retinoids.
URL:https://scge.mcw.edu/events/the-5th-international-conference-on-retinoids/
ATTACH;FMTTYPE=image/jpeg:https://scge.mcw.edu/wp-content/uploads/2020/09/FASEB1.jpg
END:VEVENT
END:VCALENDAR