BEGIN:VCALENDAR
VERSION:2.0
PRODID:-//Somatic Cell Gene Editing - ECPv6.15.20//NONSGML v1.0//EN
CALSCALE:GREGORIAN
METHOD:PUBLISH
X-ORIGINAL-URL:https://scge.mcw.edu
X-WR-CALDESC:Events for Somatic Cell Gene Editing
REFRESH-INTERVAL;VALUE=DURATION:PT1H
X-Robots-Tag:noindex
X-PUBLISHED-TTL:PT1H
BEGIN:VTIMEZONE
TZID:America/Chicago
BEGIN:DAYLIGHT
TZOFFSETFROM:-0600
TZOFFSETTO:-0500
TZNAME:CDT
DTSTART:20230312T080000
END:DAYLIGHT
BEGIN:STANDARD
TZOFFSETFROM:-0500
TZOFFSETTO:-0600
TZNAME:CST
DTSTART:20231105T070000
END:STANDARD
BEGIN:DAYLIGHT
TZOFFSETFROM:-0600
TZOFFSETTO:-0500
TZNAME:CDT
DTSTART:20240310T080000
END:DAYLIGHT
BEGIN:STANDARD
TZOFFSETFROM:-0500
TZOFFSETTO:-0600
TZNAME:CST
DTSTART:20241103T070000
END:STANDARD
BEGIN:DAYLIGHT
TZOFFSETFROM:-0600
TZOFFSETTO:-0500
TZNAME:CDT
DTSTART:20250309T080000
END:DAYLIGHT
BEGIN:STANDARD
TZOFFSETFROM:-0500
TZOFFSETTO:-0600
TZNAME:CST
DTSTART:20251102T070000
END:STANDARD
END:VTIMEZONE
BEGIN:VEVENT
DTSTART;VALUE=DATE:20240919
DTEND;VALUE=DATE:20240921
DTSTAMP:20260421T053617
CREATED:20240808T143712Z
LAST-MODIFIED:20240808T143712Z
UID:4358-1726704000-1726876799@scge.mcw.edu
SUMMARY:HI-POCT 2024
DESCRIPTION:IEEE-EMBS International Conference on Health Innovations in Point of Care Technology (IEEE HI-POCT) is the premier conference in the areas of Health innovations in point-of-care technologies. In its eighth year\, this IEEE EMB Strategic Conference will emphasize funding opportunities and the promise and pitfalls of the journey from idea to patient. The conference will provide a strategic forum in which clinicians\, industry experts\, innovation experts\, researchers\, and students will examine how to define unmet clinical needs and successfully travel along the innovation cycle toward commercialization and patient impact. Clinical\, technological\, regulatory\, and marketing aspects of this learnable process will be stressed. Expert panels will discuss learnings in the development\, translation\, and commercialization of technologies and challenges in bringing medical care innovation to community health. \nTuscon\, AZ \n\nHome \n\n 
URL:https://scge.mcw.edu/events/hi-poct-2024/
ATTACH;FMTTYPE=image/png:https://scge.mcw.edu/wp-content/uploads/2024/08/Screenshot-2024-08-08-093624.png
END:VEVENT
END:VCALENDAR