BEGIN:VCALENDAR
VERSION:2.0
PRODID:-//Somatic Cell Gene Editing - ECPv6.15.20//NONSGML v1.0//EN
CALSCALE:GREGORIAN
METHOD:PUBLISH
X-ORIGINAL-URL:https://scge.mcw.edu
X-WR-CALDESC:Events for Somatic Cell Gene Editing
REFRESH-INTERVAL;VALUE=DURATION:PT1H
X-Robots-Tag:noindex
X-PUBLISHED-TTL:PT1H
BEGIN:VTIMEZONE
TZID:America/Chicago
BEGIN:DAYLIGHT
TZOFFSETFROM:-0600
TZOFFSETTO:-0500
TZNAME:CDT
DTSTART:20240310T080000
END:DAYLIGHT
BEGIN:STANDARD
TZOFFSETFROM:-0500
TZOFFSETTO:-0600
TZNAME:CST
DTSTART:20241103T070000
END:STANDARD
BEGIN:DAYLIGHT
TZOFFSETFROM:-0600
TZOFFSETTO:-0500
TZNAME:CDT
DTSTART:20250309T080000
END:DAYLIGHT
BEGIN:STANDARD
TZOFFSETFROM:-0500
TZOFFSETTO:-0600
TZNAME:CST
DTSTART:20251102T070000
END:STANDARD
BEGIN:DAYLIGHT
TZOFFSETFROM:-0600
TZOFFSETTO:-0500
TZNAME:CDT
DTSTART:20260308T080000
END:DAYLIGHT
BEGIN:STANDARD
TZOFFSETFROM:-0500
TZOFFSETTO:-0600
TZNAME:CST
DTSTART:20261101T070000
END:STANDARD
END:VTIMEZONE
BEGIN:VEVENT
DTSTART;VALUE=DATE:20250407
DTEND;VALUE=DATE:20250412
DTSTAMP:20260420T022637
CREATED:20240612T152546Z
LAST-MODIFIED:20240612T152546Z
UID:4268-1743984000-1744415999@scge.mcw.edu
SUMMARY:CRISPR MEDiCiNE 2025
DESCRIPTION:Meet the global CRISPR Medicine community at the second CRISPR MEDiCiNE conference. The focus will be on tools\, delivery\, safety/off-target\, diseases\, pre-clinical/clinical\, standards and regulations\, functional genomics\, target identification\, and target validation. \nApril 7-11th\, 2025; Copenhagen\, Denmark – Virtual event available April 7th \nLearn more at https://crisprmedicinenews.com/crisprmed/crisprmed25/
URL:https://scge.mcw.edu/events/crispr-medicine-2025/
ATTACH;FMTTYPE=image/png:https://scge.mcw.edu/wp-content/uploads/2024/06/Screenshot-2024-06-12-102507.png
END:VEVENT
END:VCALENDAR