BEGIN:VCALENDAR
VERSION:2.0
PRODID:-//Somatic Cell Gene Editing - ECPv6.15.20//NONSGML v1.0//EN
CALSCALE:GREGORIAN
METHOD:PUBLISH
X-ORIGINAL-URL:https://scge.mcw.edu
X-WR-CALDESC:Events for Somatic Cell Gene Editing
REFRESH-INTERVAL;VALUE=DURATION:PT1H
X-Robots-Tag:noindex
X-PUBLISHED-TTL:PT1H
BEGIN:VTIMEZONE
TZID:America/Chicago
BEGIN:DAYLIGHT
TZOFFSETFROM:-0600
TZOFFSETTO:-0500
TZNAME:CDT
DTSTART:20240310T080000
END:DAYLIGHT
BEGIN:STANDARD
TZOFFSETFROM:-0500
TZOFFSETTO:-0600
TZNAME:CST
DTSTART:20241103T070000
END:STANDARD
BEGIN:DAYLIGHT
TZOFFSETFROM:-0600
TZOFFSETTO:-0500
TZNAME:CDT
DTSTART:20250309T080000
END:DAYLIGHT
BEGIN:STANDARD
TZOFFSETFROM:-0500
TZOFFSETTO:-0600
TZNAME:CST
DTSTART:20251102T070000
END:STANDARD
BEGIN:DAYLIGHT
TZOFFSETFROM:-0600
TZOFFSETTO:-0500
TZNAME:CDT
DTSTART:20260308T080000
END:DAYLIGHT
BEGIN:STANDARD
TZOFFSETFROM:-0500
TZOFFSETTO:-0600
TZNAME:CST
DTSTART:20261101T070000
END:STANDARD
END:VTIMEZONE
BEGIN:VEVENT
DTSTART;VALUE=DATE:20251120
DTEND;VALUE=DATE:20251122
DTSTAMP:20260421T192831
CREATED:20250729T133502Z
LAST-MODIFIED:20251014T144021Z
UID:4927-1763596800-1763769599@scge.mcw.edu
SUMMARY:Breakthroughs in Targeted In Vivo Gene Editing
DESCRIPTION:Join ASGCT at the Marriott Marquis San Diego Marina\, Nov. 20-21\, 2025\, for an unparalleled opportunity to immerse yourself in cutting-edge solutions for targeted delivery of gene editing technology in vivo in San Diego. Hear from SCGE researchers Bill Peranteau\, Sonia Vallabh\, Yong-Hui Jiang\, Kiran Musunuru\, and Rebecca Ahrens-Nicklas at the event. \nVirtual and In Person (San Diego\, CA) \nhttps://www.asgct.org/events/breakthroughs \n 
URL:https://scge.mcw.edu/events/breakthroughs-in-targeted-in-vivo-gene-editing/
ATTACH;FMTTYPE=image/png:https://scge.mcw.edu/wp-content/uploads/2025/07/Screenshot-2025-07-29-083422.png
END:VEVENT
END:VCALENDAR