BEGIN:VCALENDAR
VERSION:2.0
PRODID:-//Somatic Cell Gene Editing - ECPv6.15.20//NONSGML v1.0//EN
CALSCALE:GREGORIAN
METHOD:PUBLISH
X-ORIGINAL-URL:https://scge.mcw.edu
X-WR-CALDESC:Events for Somatic Cell Gene Editing
REFRESH-INTERVAL;VALUE=DURATION:PT1H
X-Robots-Tag:noindex
X-PUBLISHED-TTL:PT1H
BEGIN:VTIMEZONE
TZID:America/Chicago
BEGIN:DAYLIGHT
TZOFFSETFROM:-0600
TZOFFSETTO:-0500
TZNAME:CDT
DTSTART:20180311T080000
END:DAYLIGHT
BEGIN:STANDARD
TZOFFSETFROM:-0500
TZOFFSETTO:-0600
TZNAME:CST
DTSTART:20181104T070000
END:STANDARD
BEGIN:DAYLIGHT
TZOFFSETFROM:-0600
TZOFFSETTO:-0500
TZNAME:CDT
DTSTART:20190310T080000
END:DAYLIGHT
BEGIN:STANDARD
TZOFFSETFROM:-0500
TZOFFSETTO:-0600
TZNAME:CST
DTSTART:20191103T070000
END:STANDARD
BEGIN:DAYLIGHT
TZOFFSETFROM:-0600
TZOFFSETTO:-0500
TZNAME:CDT
DTSTART:20200308T080000
END:DAYLIGHT
BEGIN:STANDARD
TZOFFSETFROM:-0500
TZOFFSETTO:-0600
TZNAME:CST
DTSTART:20201101T070000
END:STANDARD
END:VTIMEZONE
BEGIN:VEVENT
DTSTART;VALUE=DATE:20191008
DTEND;VALUE=DATE:20191009
DTSTAMP:20260424T193844
CREATED:20190621T182252Z
LAST-MODIFIED:20200331T165137Z
UID:1008-1570492800-1570579199@scge.mcw.edu
SUMMARY:CRISPRcon Midwest
DESCRIPTION:Conversations on Science\, Society & the Future of Gene Editing \nCRISPRcon creates a unique forum in which a broad selection of diverse voices come together to discuss the future of CRISPR and related gene editing technologies across a variety of applications in agriculture\, health\, conservation and more. \nCRISPRcon is a program of Keystone Policy Center. CRISPRcon Midwest will be hosted by the University of Wisconsin – Madison. \nSCGE Speaker:  Kris Saha\, PhD
URL:https://scge.mcw.edu/events/crisprcon-midwest/
LOCATION:University of Wisconsin`\, Madison\, WI\, United States
ATTACH;FMTTYPE=image/jpeg:https://scge.mcw.edu/wp-content/uploads/2019/06/Crisprcon-midwest.jpg
END:VEVENT
BEGIN:VEVENT
DTSTART;VALUE=DATE:20191010
DTEND;VALUE=DATE:20191014
DTSTAMP:20260424T193844
CREATED:20190624T200612Z
LAST-MODIFIED:20200331T165607Z
UID:1059-1570665600-1571011199@scge.mcw.edu
SUMMARY:Genome Engineering: Frontiers of CRISPR/Cas
DESCRIPTION:The specific goal for this meeting is to foster fruitful and creative interactions between researchers interested in applying these systems to genome engineering and related advances in a wide variety of organisms\, together with scientists studying the basic biology of CRISPR-Cas and related bacterial defense systems. \nSCGE Organizers:  Jennifer Doudna\, PhD\, David Liu\, PhD \nSCGE Speakers: \n\nErik Sontheimer\, PhD\nJill Banfield\, PhD\nCharles Gersbach\, PhD\nMatthew Porteus\, MD
URL:https://scge.mcw.edu/events/genome-engineering-frontiers-of-crispr-cas-2/
LOCATION:Cold Spring Harbor\, One Bungtown Road\, Cold Spring Harbor\, 11724\, United States
ATTACH;FMTTYPE=image/jpeg:https://scge.mcw.edu/wp-content/uploads/2019/06/CSHL_sign_event.jpg
END:VEVENT
BEGIN:VEVENT
DTSTART;VALUE=DATE:20191022
DTEND;VALUE=DATE:20191026
DTSTAMP:20260424T193844
CREATED:20190621T212805Z
LAST-MODIFIED:20190624T204100Z
UID:1035-1571702400-1572047999@scge.mcw.edu
SUMMARY:European Society of Gene & Cell Therapy
DESCRIPTION:ESGCT organises an Annual Congress\, which brings together scientists working in the fields of gene and cell therapy from throughout Europe and beyond. The Congress is a platform for highlighting the latest research and techniques through the scientific sessions\, which include keynote lectures\, invited speakers\, selected speakers\, poster sessions and exhibitions.
URL:https://scge.mcw.edu/events/european-sopciety-of-gene-cell-therapy/
LOCATION:Barcelona International Convention Centre\, Plaça de Willy Brandt\, Barcelona\, 08019\, Spain
ATTACH;FMTTYPE=image/jpeg:https://scge.mcw.edu/wp-content/uploads/2019/06/ESCGT.jpg
END:VEVENT
BEGIN:VEVENT
DTSTART;VALUE=DATE:20191031
DTEND;VALUE=DATE:20191103
DTSTAMP:20260424T193844
CREATED:20190621T185311Z
LAST-MODIFIED:20190621T205226Z
UID:1014-1572480000-1572739199@scge.mcw.edu
SUMMARY:North American Cystic Fibrosis Conference
DESCRIPTION:This year’s North American Cystic Fibrosis Conference (NACFC) will feature a wide variety of session formats.
URL:https://scge.mcw.edu/events/north-american-cystic-fibrosis-conference/
LOCATION:Nashville Music City Center\, 201 5th Avenue South\, Nashville\, TN\, 37203\, United States
ATTACH;FMTTYPE=image/jpeg:https://scge.mcw.edu/wp-content/uploads/2019/06/NACFC.jpg
END:VEVENT
END:VCALENDAR