BEGIN:VCALENDAR
VERSION:2.0
PRODID:-//Somatic Cell Gene Editing - ECPv6.15.20//NONSGML v1.0//EN
CALSCALE:GREGORIAN
METHOD:PUBLISH
X-ORIGINAL-URL:https://scge.mcw.edu
X-WR-CALDESC:Events for Somatic Cell Gene Editing
REFRESH-INTERVAL;VALUE=DURATION:PT1H
X-Robots-Tag:noindex
X-PUBLISHED-TTL:PT1H
BEGIN:VTIMEZONE
TZID:America/Chicago
BEGIN:DAYLIGHT
TZOFFSETFROM:-0600
TZOFFSETTO:-0500
TZNAME:CDT
DTSTART:20180311T080000
END:DAYLIGHT
BEGIN:STANDARD
TZOFFSETFROM:-0500
TZOFFSETTO:-0600
TZNAME:CST
DTSTART:20181104T070000
END:STANDARD
BEGIN:DAYLIGHT
TZOFFSETFROM:-0600
TZOFFSETTO:-0500
TZNAME:CDT
DTSTART:20190310T080000
END:DAYLIGHT
BEGIN:STANDARD
TZOFFSETFROM:-0500
TZOFFSETTO:-0600
TZNAME:CST
DTSTART:20191103T070000
END:STANDARD
BEGIN:DAYLIGHT
TZOFFSETFROM:-0600
TZOFFSETTO:-0500
TZNAME:CDT
DTSTART:20200308T080000
END:DAYLIGHT
BEGIN:STANDARD
TZOFFSETFROM:-0500
TZOFFSETTO:-0600
TZNAME:CST
DTSTART:20201101T070000
END:STANDARD
END:VTIMEZONE
BEGIN:VEVENT
DTSTART;VALUE=DATE:20191031
DTEND;VALUE=DATE:20191103
DTSTAMP:20260424T170637
CREATED:20190621T185311Z
LAST-MODIFIED:20190621T205226Z
UID:1014-1572480000-1572739199@scge.mcw.edu
SUMMARY:North American Cystic Fibrosis Conference
DESCRIPTION:This year’s North American Cystic Fibrosis Conference (NACFC) will feature a wide variety of session formats.
URL:https://scge.mcw.edu/events/north-american-cystic-fibrosis-conference/
LOCATION:Nashville Music City Center\, 201 5th Avenue South\, Nashville\, TN\, 37203\, United States
ATTACH;FMTTYPE=image/jpeg:https://scge.mcw.edu/wp-content/uploads/2019/06/NACFC.jpg
END:VEVENT
BEGIN:VEVENT
DTSTART;VALUE=DATE:20191107
DTEND;VALUE=DATE:20191113
DTSTAMP:20260424T170637
CREATED:20190621T190706Z
LAST-MODIFIED:20190624T160453Z
UID:1019-1573167600-1573599599@scge.mcw.edu
SUMMARY:AASLD - The Liver Meeting
DESCRIPTION:The Liver Meeting® is the annual must-attend event bringing together 9\,500 attendees from around the world to exchange the latest research\, discuss new developments in treatment outcomes\, and network with other experts in the field.
URL:https://scge.mcw.edu/events/aasld-the-liver-meeting/
LOCATION:Hynes Convention Center\, 900 Boylston St\, Boston\, MA\, 02115\, United States
ATTACH;FMTTYPE=image/jpeg:https://scge.mcw.edu/wp-content/uploads/2019/06/AASLD-e1561392112519.jpg
END:VEVENT
BEGIN:VEVENT
DTSTART;VALUE=DATE:20191121
DTEND;VALUE=DATE:20191124
DTSTAMP:20260424T170637
CREATED:20200330T195449Z
LAST-MODIFIED:20200330T222421Z
UID:1502-1574377200-1574549999@scge.mcw.edu
SUMMARY:Gliwice Scientific Meetings
DESCRIPTION:The Gliwice Scientific Meeting is an annual event of international scope organized jointly by the Center of Oncology in Gliwice\, Poland\, together with the Silesian University of Technology. The Meetings are held under the auspices of the Association for the Support of Cancer Research\, a local non-profit organization seeking progress in anticancer research. \nSCGE Consortium Speakers: \n\nChristopher Walkey\, PhD
URL:https://scge.mcw.edu/events/gliwice-scientific-meetings/
LOCATION:Centrum Edukacyjno-Kongresowe Politechniki Śląskiej\, Stanisława Konarskiego 18B\, Gliwice\, 7MVJ+2P\, Poland
ATTACH;FMTTYPE=image/png:https://scge.mcw.edu/wp-content/uploads/2020/03/gliwice.png
END:VEVENT
BEGIN:VEVENT
DTSTART;VALUE=DATE:20191124
DTEND;VALUE=DATE:20191128
DTSTAMP:20260424T170637
CREATED:20190624T191525Z
LAST-MODIFIED:20190624T192816Z
UID:1047-1574636400-1574895599@scge.mcw.edu
SUMMARY:Frontiers in Genome Engineering 2019
DESCRIPTION:The topics of the conference include but not limited to the use and development of new genome editing technologies for human health as well as agriculture and bioindustry.
URL:https://scge.mcw.edu/events/frontiers-in-genome-engineering-2019/
LOCATION:Kobe Convention Center\, 6-9-1\, Minatojima-nakamachi\, Chuo-ku\, Kobe-shi\,\, Kobe\, 650-0046\, Japan
END:VEVENT
END:VCALENDAR