BEGIN:VCALENDAR
VERSION:2.0
PRODID:-//Somatic Cell Gene Editing - ECPv6.15.20//NONSGML v1.0//EN
CALSCALE:GREGORIAN
METHOD:PUBLISH
X-ORIGINAL-URL:https://scge.mcw.edu
X-WR-CALDESC:Events for Somatic Cell Gene Editing
REFRESH-INTERVAL;VALUE=DURATION:PT1H
X-Robots-Tag:noindex
X-PUBLISHED-TTL:PT1H
BEGIN:VTIMEZONE
TZID:America/Chicago
BEGIN:DAYLIGHT
TZOFFSETFROM:-0600
TZOFFSETTO:-0500
TZNAME:CDT
DTSTART:20240310T080000
END:DAYLIGHT
BEGIN:STANDARD
TZOFFSETFROM:-0500
TZOFFSETTO:-0600
TZNAME:CST
DTSTART:20241103T070000
END:STANDARD
BEGIN:DAYLIGHT
TZOFFSETFROM:-0600
TZOFFSETTO:-0500
TZNAME:CDT
DTSTART:20250309T080000
END:DAYLIGHT
BEGIN:STANDARD
TZOFFSETFROM:-0500
TZOFFSETTO:-0600
TZNAME:CST
DTSTART:20251102T070000
END:STANDARD
BEGIN:DAYLIGHT
TZOFFSETFROM:-0600
TZOFFSETTO:-0500
TZNAME:CDT
DTSTART:20260308T080000
END:DAYLIGHT
BEGIN:STANDARD
TZOFFSETFROM:-0500
TZOFFSETTO:-0600
TZNAME:CST
DTSTART:20261101T070000
END:STANDARD
END:VTIMEZONE
BEGIN:VEVENT
DTSTART;VALUE=DATE:20250609
DTEND;VALUE=DATE:20250614
DTSTAMP:20260420T225948
CREATED:20250304T173307Z
LAST-MODIFIED:20250304T173307Z
UID:4768-1749427200-1749859199@scge.mcw.edu
SUMMARY:NIST Workshops
DESCRIPTION:At the Workshops on Measurements and Standards for Advanced Therapy\, stakeholders from federal agencies\, industry\, and academia will provide perspectives on identifying measurement challenges and innovative technology solutions\, as well as standards to accelerate R&D (including the use of ML/AI for biological data)\, promote manufacturing innovation\, improve supply chain resilience\, and support characterization and testing to facilitate regulatory approval. \nThe workshops will include:\nAI and Flow Cytometry Workshop (June 9 to 10\, 2025)\nCell Characterization Standardization Workshop (June 11\, 2025)\nGenome Editing Consortium Workshop (June 12 to 13\, 2025) \nRockville\, MD \nLearn more at: https://www.nist.gov/news-events/events/2025/06/second-series-workshops-measurements-and-standards-advanced-therapy \n 
URL:https://scge.mcw.edu/events/nist-workshops/
ATTACH;FMTTYPE=image/png:https://scge.mcw.edu/wp-content/uploads/2025/03/Screenshot-2025-03-04-113229.png
END:VEVENT
BEGIN:VEVENT
DTSTART;VALUE=DATE:20250610
DTEND;VALUE=DATE:20250613
DTSTAMP:20260420T225948
CREATED:20250128T151019Z
LAST-MODIFIED:20250128T151019Z
UID:4731-1749513600-1749772799@scge.mcw.edu
SUMMARY:Cell & Gene Therapy Products 2025
DESCRIPTION:The Cell and Gene Therapy Products (CGTP) Symposium: Manufacturing\, Quality and Regulatory Considerations enables the exchange of scientific ideas and dialogue with regulators that form the basis of evolving regulatory practices in the development of these diverse and innovative products. The 2025 Symposium will explore how to continue to adapt concepts applied to other biologics and how to establish novel approaches where they are needed. \nRockville\, MD \nMore info: https://www.casss.org/cell-gene-therapy-products
URL:https://scge.mcw.edu/events/cell-gene-therapy-products-2025/
ATTACH;FMTTYPE=image/png:https://scge.mcw.edu/wp-content/uploads/2025/01/Screenshot-2025-01-28-090944.png
END:VEVENT
BEGIN:VEVENT
DTSTART;TZID=America/Chicago:20250611T100000
DTEND;TZID=America/Chicago:20250611T143000
DTSTAMP:20260420T225948
CREATED:20250602T151245Z
LAST-MODIFIED:20250602T151245Z
UID:4883-1749636000-1749652200@scge.mcw.edu
SUMMARY:The State of CRISPR & Genome Editing 2025
DESCRIPTION:In The State of CRISPR and Genome Editing virtual summit\, GEN brings together an outstanding line-up of pioneers and practitioners in genome editing to provide a compelling and candid overview of the field. Attendees will hear about the latest scientific\, technology\, commercial and regulatory advances that will enable genome editing to unleash its full potential in the clinic and beyond. \nHear from SCGE researcher Fyodor Urnov PhD on the path to achieving CRISPR cures for hundreds of rare genetic diseases. \nRegister for this free event at https://webinars.liebertpub.com/e/the-state-of-crispr-and-gene-editing-2025
URL:https://scge.mcw.edu/events/the-state-of-crispr-genome-editing-2025/
ATTACH;FMTTYPE=image/png:https://scge.mcw.edu/wp-content/uploads/2025/06/Screenshot-2025-06-02-101203.png
END:VEVENT
BEGIN:VEVENT
DTSTART;VALUE=DATE:20250624
DTEND;VALUE=DATE:20250626
DTSTAMP:20260420T225948
CREATED:20240808T145307Z
LAST-MODIFIED:20240808T145307Z
UID:4368-1750723200-1750895999@scge.mcw.edu
SUMMARY:The Festival of Genomics & Biodata
DESCRIPTION:The Festival is designed principally for scientists and clinicians who are working in the fields of genomics\, other omics\, and/or using biodata \, to further research\, drug discovery\, healthcare and – ultimately – deliver better patient outcomes. Topics covered include genomics\, single cell/spatial biology\, multiomics\, biodata\, cancer research\, drug discovery\, AI\, microbiome\, proteomics\, liquid biopsy and so much more. It’s brimming with essential insights from 170+ word class speakers\, challenging discussions on essential topics\, and powerful learning and networking experiences.\n\nBoston\, MA\n\nLearn more at https://festivalofgenomics.com/boston/en/page/boston-home
URL:https://scge.mcw.edu/events/the-festival-of-genomics-biodata-2/
ATTACH;FMTTYPE=image/png:https://scge.mcw.edu/wp-content/uploads/2024/08/Screenshot-2024-08-08-095236.png
END:VEVENT
BEGIN:VEVENT
DTSTART;TZID=America/Chicago:20250626T120000
DTEND;TZID=America/Chicago:20250626T130000
DTSTAMP:20260420T225948
CREATED:20250616T135542Z
LAST-MODIFIED:20250616T135542Z
UID:4890-1750939200-1750942800@scge.mcw.edu
SUMMARY:Patient-Centered Long-Term Follow-up for Gene Therapies
DESCRIPTION:This webinar will consider patient-centered approaches in the specific context of Gene Therapy (GT) Long-Term Follow-Up (LTFU) studies. GTs have the potential for long-lasting and transformative health benefits\, but there are also possible long-term health risks. Therefore\, the FDA recommends long-term safety monitoring of recipients of certain types of GTs to minimize and better understand any health risks. Although important\, these LTFU studies can last years and may pose significant burdens on patients\, so it is critical to consider patient needs and preferences in the design and conduct of LTFU for GTs. Three panelists will offer different perspectives on how we can put patients at the center of LTFU for GTs. \nRegister at https://lp.constantcontactpages.com/ev/reg/83r3gyp/lp/13903b2d-e150-44c8-9ae8-8ca48a0ebc62
URL:https://scge.mcw.edu/events/patient-centered-long-term-follow-up-for-gene-therapies/
ATTACH;FMTTYPE=image/png:https://scge.mcw.edu/wp-content/uploads/2025/06/Screenshot-2025-06-16-085457.png
END:VEVENT
END:VCALENDAR