BEGIN:VCALENDAR
VERSION:2.0
PRODID:-//Somatic Cell Gene Editing - ECPv6.15.20//NONSGML v1.0//EN
CALSCALE:GREGORIAN
METHOD:PUBLISH
X-ORIGINAL-URL:https://scge.mcw.edu
X-WR-CALDESC:Events for Somatic Cell Gene Editing
REFRESH-INTERVAL;VALUE=DURATION:PT1H
X-Robots-Tag:noindex
X-PUBLISHED-TTL:PT1H
BEGIN:VTIMEZONE
TZID:America/Chicago
BEGIN:DAYLIGHT
TZOFFSETFROM:-0600
TZOFFSETTO:-0500
TZNAME:CDT
DTSTART:20240310T080000
END:DAYLIGHT
BEGIN:STANDARD
TZOFFSETFROM:-0500
TZOFFSETTO:-0600
TZNAME:CST
DTSTART:20241103T070000
END:STANDARD
BEGIN:DAYLIGHT
TZOFFSETFROM:-0600
TZOFFSETTO:-0500
TZNAME:CDT
DTSTART:20250309T080000
END:DAYLIGHT
BEGIN:STANDARD
TZOFFSETFROM:-0500
TZOFFSETTO:-0600
TZNAME:CST
DTSTART:20251102T070000
END:STANDARD
BEGIN:DAYLIGHT
TZOFFSETFROM:-0600
TZOFFSETTO:-0500
TZNAME:CDT
DTSTART:20260308T080000
END:DAYLIGHT
BEGIN:STANDARD
TZOFFSETFROM:-0500
TZOFFSETTO:-0600
TZNAME:CST
DTSTART:20261101T070000
END:STANDARD
END:VTIMEZONE
BEGIN:VEVENT
DTSTART;VALUE=DATE:20250707
DTEND;VALUE=DATE:20250710
DTSTAMP:20260420T225022
CREATED:20240808T145845Z
LAST-MODIFIED:20240808T145845Z
UID:4374-1751846400-1752105599@scge.mcw.edu
SUMMARY:Cell & Gene Therapy Summit 2025
DESCRIPTION:We cordially invite you to The Global Cell & Gene Therapy Summit\, which will be held in Orlando\, FL\, from July 07 to 09\, 2025. Professionals and researchers are requested to take part as delegate\, sponsor\, or exhibitor. The three-day conference aims to bring together the global audience to discuss and exchange ideas on the origin\, development\, clinical applications and translation science of cell & gene therapy. \nThe inclusion of talks\, poster presentation\, workshops\, discussions and networking events over the three days indicates a comprehensive program design to engage participants of various interactive formats. It allows the attendees to learn from experts\, showcase their own research through posters\, participate in workshops to gain practical insights\, engage in discussions to share perspectives\, and connect with professional researchers from diverse backgrounds. \nBy fostering such an environment\, The Global Cell & Gene Therapy Summit\, provides an excellent platform for researchers\, clinicians\, industry professionals\, and other stakeholders to stay up to date with the latest advancements in the field of cell & gene therapy. It also facilitates collaboration and the exchange of knowledge\, which is crucial for accelerating the translation of scientific discoveries into potential clinical applications. \nOrlando\, FL (Hybrid) \nLearn more at https://cgtsummit.com/
URL:https://scge.mcw.edu/events/cell-gene-therapy-summit-2025/
ATTACH;FMTTYPE=image/png:https://scge.mcw.edu/wp-content/uploads/2024/08/cell-and-gene-therapy-summit.png
END:VEVENT
END:VCALENDAR