BEGIN:VCALENDAR
VERSION:2.0
PRODID:-//Somatic Cell Gene Editing - ECPv6.15.20//NONSGML v1.0//EN
CALSCALE:GREGORIAN
METHOD:PUBLISH
X-WR-CALNAME:Somatic Cell Gene Editing
X-ORIGINAL-URL:https://scge.mcw.edu
X-WR-CALDESC:Events for Somatic Cell Gene Editing
REFRESH-INTERVAL;VALUE=DURATION:PT1H
X-Robots-Tag:noindex
X-PUBLISHED-TTL:PT1H
BEGIN:VTIMEZONE
TZID:America/Chicago
BEGIN:DAYLIGHT
TZOFFSETFROM:-0600
TZOFFSETTO:-0500
TZNAME:CDT
DTSTART:20240310T080000
END:DAYLIGHT
BEGIN:STANDARD
TZOFFSETFROM:-0500
TZOFFSETTO:-0600
TZNAME:CST
DTSTART:20241103T070000
END:STANDARD
BEGIN:DAYLIGHT
TZOFFSETFROM:-0600
TZOFFSETTO:-0500
TZNAME:CDT
DTSTART:20250309T080000
END:DAYLIGHT
BEGIN:STANDARD
TZOFFSETFROM:-0500
TZOFFSETTO:-0600
TZNAME:CST
DTSTART:20251102T070000
END:STANDARD
BEGIN:DAYLIGHT
TZOFFSETFROM:-0600
TZOFFSETTO:-0500
TZNAME:CDT
DTSTART:20260308T080000
END:DAYLIGHT
BEGIN:STANDARD
TZOFFSETFROM:-0500
TZOFFSETTO:-0600
TZNAME:CST
DTSTART:20261101T070000
END:STANDARD
END:VTIMEZONE
BEGIN:VEVENT
DTSTART;VALUE=DATE:20250910
DTEND;VALUE=DATE:20250913
DTSTAMP:20260421T090837
CREATED:20250128T151853Z
LAST-MODIFIED:20250128T151853Z
UID:4739-1757462400-1757721599@scge.mcw.edu
SUMMARY:Cell & Gene Therapy World Conference 2025
DESCRIPTION:The Cell & Gene Therapy World Conference 2025 (CGTWC 2025)\, Boston\, Massachusetts\, USA\, focuses on the vital progression of innovations and breakthroughs through cutting-edge research and practice in gene therapy for neurological disorders. Our aim is to explore new pathways in the field and bridge existing gaps in treatment options. \nBoston\, MA \nhttps://www.cellgenetherapyconference.com/
URL:https://scge.mcw.edu/events/cell-gene-therapy-world-conference-2025/
ATTACH;FMTTYPE=image/png:https://scge.mcw.edu/wp-content/uploads/2025/01/Screenshot-2025-01-28-091826.png
END:VEVENT
END:VCALENDAR